﻿BEGIN:VCALENDAR
VERSION:2.0
PRODID:-//Veualta - ECPv6.15.20//NONSGML v1.0//EN
CALSCALE:GREGORIAN
METHOD:PUBLISH
X-WR-CALNAME:Veualta
X-ORIGINAL-URL:https://www.lecturaenveualta.cat
X-WR-CALDESC:Esdeveniments per Veualta
REFRESH-INTERVAL;VALUE=DURATION:PT1H
X-Robots-Tag:noindex
X-PUBLISHED-TTL:PT1H
BEGIN:VTIMEZONE
TZID:Europe/Andorra
BEGIN:DAYLIGHT
TZOFFSETFROM:+0100
TZOFFSETTO:+0200
TZNAME:CEST
DTSTART:20250330T010000
END:DAYLIGHT
BEGIN:STANDARD
TZOFFSETFROM:+0200
TZOFFSETTO:+0100
TZNAME:CET
DTSTART:20251026T010000
END:STANDARD
BEGIN:DAYLIGHT
TZOFFSETFROM:+0100
TZOFFSETTO:+0200
TZNAME:CEST
DTSTART:20260329T010000
END:DAYLIGHT
BEGIN:STANDARD
TZOFFSETFROM:+0200
TZOFFSETTO:+0100
TZNAME:CET
DTSTART:20261025T010000
END:STANDARD
BEGIN:DAYLIGHT
TZOFFSETFROM:+0100
TZOFFSETTO:+0200
TZNAME:CEST
DTSTART:20270328T010000
END:DAYLIGHT
BEGIN:STANDARD
TZOFFSETFROM:+0200
TZOFFSETTO:+0100
TZNAME:CET
DTSTART:20271031T010000
END:STANDARD
END:VTIMEZONE
BEGIN:VEVENT
DTSTART;TZID=Europe/Andorra:20260420T103000
DTEND;TZID=Europe/Andorra:20260420T123000
DTSTAMP:20260422T124513
CREATED:20231128T150041Z
LAST-MODIFIED:20260316T093052Z
UID:11660-1776681000-1776688200@www.lecturaenveualta.cat
SUMMARY:Final XXII Certamen escolar Terres de l'Ebre
DESCRIPTION:Podeu seguir l’acte en directe a través d’aquest enllaç.
URL:https://www.lecturaenveualta.cat/esdeveniment/final-terres-de-lebre/
LOCATION:Institut de l’Ebre\, Avinguda Cristòfol Colon\, 34-42\, Tortosa\, Tarragona\, 43500\, Spain
CATEGORIES:Final,Final Territorial
ORGANIZER;CN="Fundaci%C3%B3 Enciclop%C3%A8dia Catalana":MAILTO:info@lecturaenveualta.cat
END:VEVENT
BEGIN:VEVENT
DTSTART;TZID=Europe/Andorra:20260417T100000
DTEND;TZID=Europe/Andorra:20260417T123000
DTSTAMP:20260422T124513
CREATED:20160112T092901Z
LAST-MODIFIED:20260226T085316Z
UID:5049-1776420000-1776429000@www.lecturaenveualta.cat
SUMMARY:Semifinal ST Baix Llobregat III - Sant Feliu de Llobregat
DESCRIPTION:
URL:https://www.lecturaenveualta.cat/esdeveniment/semifinal-st-baix-llobregat-sant-feliu-de-llobregat/
LOCATION:Auditori del Palau Falguera\, Carrer Falguera\, 6\, Sant Feliu de Llobregat\, 08980
CATEGORIES:Semifinals
ORGANIZER;CN="ST Baix Llobregat i Fundaci%C3%B3 Enciclop%C3%A8dia Catalana":MAILTO:info@lecturaenveualta.cat
END:VEVENT
BEGIN:VEVENT
DTSTART;TZID=Europe/Andorra:20260414T103000
DTEND;TZID=Europe/Andorra:20260414T130000
DTSTAMP:20260422T124513
CREATED:20210323T105705Z
LAST-MODIFIED:20251118T150211Z
UID:9907-1776162600-1776171600@www.lecturaenveualta.cat
SUMMARY:Final XXII Certamen escolar Lleida
DESCRIPTION:Podeu seguir l’acte en directe a través d’aquest enllaç.
URL:https://www.lecturaenveualta.cat/esdeveniment/final-lleida/
LOCATION:Teatre l’Amistat\, Plaça 1 d'octubre\, Mollerussa\, 25230
CATEGORIES:Final,Final Territorial
ORGANIZER;CN="Fundaci%C3%B3 Enciclop%C3%A8dia Catalana":MAILTO:info@lecturaenveualta.cat
END:VEVENT
BEGIN:VEVENT
DTSTART;TZID=Europe/Andorra:20260413T113000
DTEND;TZID=Europe/Andorra:20260413T130000
DTSTAMP:20260422T124513
CREATED:20240105T095338Z
LAST-MODIFIED:20260316T093114Z
UID:11697-1776079800-1776085200@www.lecturaenveualta.cat
SUMMARY:Final XXII Certamen escolar Alt Pirineu-Aran
DESCRIPTION:Podeu seguir l’acte en directe a través d’aquest enllaç.
URL:https://www.lecturaenveualta.cat/esdeveniment/final-territorial-lleida-pirineu-aran/
LOCATION:Teatre Els Til·lers\, Passeig dels Til·lers\, s/n\, Sort\, Lleida\, 25560\, Espanya
CATEGORIES:Final,Final Territorial
ORGANIZER;CN="Fundaci%C3%B3 Enciclop%C3%A8dia Catalana":MAILTO:info@lecturaenveualta.cat
END:VEVENT
BEGIN:VEVENT
DTSTART;TZID=Europe/Andorra:20260325T100000
DTEND;TZID=Europe/Andorra:20260325T133000
DTSTAMP:20260422T124513
CREATED:20251118T161739Z
LAST-MODIFIED:20251118T161739Z
UID:12474-1774432800-1774445400@www.lecturaenveualta.cat
SUMMARY:Semifinal ST Lleida - Noguera
DESCRIPTION:
URL:https://www.lecturaenveualta.cat/esdeveniment/semifinal-st-lleida-noguera/
LOCATION:Teatre Municipal de Balaguer\, Carrer Àngel Guimerà\, 28\, Balaguer\, 25600
CATEGORIES:Semifinals
END:VEVENT
BEGIN:VEVENT
DTSTART;TZID=Europe/Andorra:20260324T100000
DTEND;TZID=Europe/Andorra:20260324T130000
DTSTAMP:20260422T124513
CREATED:20231128T144752Z
LAST-MODIFIED:20260116T133118Z
UID:11648-1774346400-1774357200@www.lecturaenveualta.cat
SUMMARY:Semifinals ST Penedès - Anoia II
DESCRIPTION:
URL:https://www.lecturaenveualta.cat/esdeveniment/semifinals-st-penedes-anoia-i/
LOCATION:Museu de la Pell d’Igualada i Comarcal de l’Anoia\, Carrer de Joan Mercader\, Igualada\, 08700
CATEGORIES:Semifinals
END:VEVENT
BEGIN:VEVENT
DTSTART;TZID=Europe/Andorra:20260320T093000
DTEND;TZID=Europe/Andorra:20260320T130000
DTSTAMP:20260422T124513
CREATED:20160114T122002Z
LAST-MODIFIED:20260226T090508Z
UID:5063-1773999000-1774011600@www.lecturaenveualta.cat
SUMMARY:Semifinal Vallès Occidental - Sabadell II
DESCRIPTION:AVÍS IMPORTANT – VAGA PREVSITA PEL DIA 20 DE MARÇ \nEn cas de manteniment de la convocatòria de vaga la celebració d’aquesta semifinal es farà el dia 26 de març.
URL:https://www.lecturaenveualta.cat/esdeveniment/quart-de-final-del-valles-occidental-sabadell/
LOCATION:Casal Pere Quart\, Rambla de Sabadell\, 69\, Sabadell\, 08201
CATEGORIES:Semifinals
ORGANIZER;CN="ST Vall%C3%A8s Occidental i Fundaci%C3%B3 Enciclop%C3%A8dia Catalana":MAILTO:info@lecturaenveualta.cat
END:VEVENT
BEGIN:VEVENT
DTSTART;TZID=Europe/Andorra:20260320T090000
DTEND;TZID=Europe/Andorra:20260320T123000
DTSTAMP:20260422T124513
CREATED:20250212T153306Z
LAST-MODIFIED:20260115T082750Z
UID:12118-1773997200-1774009800@www.lecturaenveualta.cat
SUMMARY:Semifinal ST Maresme-Vallès Oriental - Pineda de Mar II
DESCRIPTION:
URL:https://www.lecturaenveualta.cat/esdeveniment/semifinal-st-maresme-valles-oriental-pineda-de-mar-ii/
LOCATION:Sala d’actes de la Biblioteca M. Serra I Moret\, Carrer Progrés\, 22\, Pineda de Mar\, 08397
CATEGORIES:Semifinals
ORGANIZER;CN="ST Maresme-Vall%C3%A8s Oriental i Fundaci%C3%B3 Enciclop%C3%A8dia Catalana":MAILTO:info@lecturaenveualta.cat
END:VEVENT
BEGIN:VEVENT
DTSTART;TZID=Europe/Andorra:20260319T093000
DTEND;TZID=Europe/Andorra:20260319T130000
DTSTAMP:20260422T124513
CREATED:20240110T101641Z
LAST-MODIFIED:20260226T090350Z
UID:11753-1773912600-1773925200@www.lecturaenveualta.cat
SUMMARY:Semifinal Vallès Occidental - Sabadell I
DESCRIPTION:AVÍS IMPORTANT – VAGA PREVSITA PEL DIA 19 DE MARÇ \nEn cas de manteniment de la convocatòria de vaga la celebració d’aquesta semifinal es farà el dia 23 de març.
URL:https://www.lecturaenveualta.cat/esdeveniment/semifinal-valles-occidental-barbera-del-valles/
LOCATION:Casal Pere Quart\, Rambla de Sabadell\, 69\, Sabadell\, 08201
CATEGORIES:Semifinals
ORGANIZER;CN="ST Vall%C3%A8s Occidental i Fundaci%C3%B3 Enciclop%C3%A8dia Catalana":MAILTO:info@lecturaenveualta.cat
END:VEVENT
BEGIN:VEVENT
DTSTART;TZID=Europe/Andorra:20260318T090000
DTEND;TZID=Europe/Andorra:20260318T133000
DTSTAMP:20260422T124513
CREATED:20250212T153736Z
LAST-MODIFIED:20260115T082833Z
UID:12125-1773824400-1773840600@www.lecturaenveualta.cat
SUMMARY:Semifinal ST Maresme-Vallès Oriental - Les Franqueses del Vallès
DESCRIPTION:
URL:https://www.lecturaenveualta.cat/esdeveniment/semifinal-st-maresme-valles-oriental-les-franqueses-del-valles/
LOCATION:Centre Cultural Bellavista\, Carrer d'Astúries\, 1\, Les Franqueses del Vallès\, 08521
CATEGORIES:Semifinals
ORGANIZER;CN="ST Maresme-Vall%C3%A8s Oriental i Fundaci%C3%B3 Enciclop%C3%A8dia Catalana":MAILTO:info@lecturaenveualta.cat
END:VEVENT
BEGIN:VEVENT
DTSTART;TZID=Europe/Andorra:20260318T090000
DTEND;TZID=Europe/Andorra:20260318T123000
DTSTAMP:20260422T124513
CREATED:20250212T153157Z
LAST-MODIFIED:20260115T082609Z
UID:12116-1773824400-1773837000@www.lecturaenveualta.cat
SUMMARY:Semifinal ST Maresme-Vallès Oriental - Pineda de Mar I
DESCRIPTION:
URL:https://www.lecturaenveualta.cat/esdeveniment/semifinal-st-maresme-valles-oriental-pineda-de-mar-i/
LOCATION:Sala d’actes de la Biblioteca M. Serra I Moret\, Carrer Progrés\, 22\, Pineda de Mar\, 08397
CATEGORIES:Semifinals
ORGANIZER;CN="ST Maresme-Vall%C3%A8s Oriental i Fundaci%C3%B3 Enciclop%C3%A8dia Catalana":MAILTO:info@lecturaenveualta.cat
END:VEVENT
BEGIN:VEVENT
DTSTART;TZID=Europe/Andorra:20260317T100000
DTEND;TZID=Europe/Andorra:20260317T130000
DTSTAMP:20260422T124513
CREATED:20210222T113535Z
LAST-MODIFIED:20260116T133129Z
UID:9744-1773741600-1773752400@www.lecturaenveualta.cat
SUMMARY:Semifinals ST Penedès - Anoia I
DESCRIPTION:
URL:https://www.lecturaenveualta.cat/esdeveniment/semifinal-anoia-ii/
LOCATION:Museu de la Pell d’Igualada i Comarcal de l’Anoia\, Carrer de Joan Mercader\, Igualada\, 08700
CATEGORIES:Semifinals
END:VEVENT
BEGIN:VEVENT
DTSTART;TZID=Europe/Andorra:20260313T100000
DTEND;TZID=Europe/Andorra:20260313T133000
DTSTAMP:20260422T124513
CREATED:20251118T155505Z
LAST-MODIFIED:20251118T155505Z
UID:12465-1773396000-1773408600@www.lecturaenveualta.cat
SUMMARY:Semifinals Consorci d'Educació de Barcelona - 5
DESCRIPTION:Actes de semifinals per als centres educatius de Barcelona ciutat. Horari matinal. \nDes del Consorci\, via correu-e\, es concretarà la data i l’horari.
URL:https://www.lecturaenveualta.cat/esdeveniment/semifinals-consorci-deducacio-de-barcelona-5/
LOCATION:Conservatori Municipal de Música de Barcelona\, Bruc 110-112\, Barcelona\, 08009
END:VEVENT
BEGIN:VEVENT
DTSTART;TZID=Europe/Andorra:20260313T100000
DTEND;TZID=Europe/Andorra:20260313T130000
DTSTAMP:20260422T124513
CREATED:20250212T152134Z
LAST-MODIFIED:20260113T160057Z
UID:12111-1773396000-1773406800@www.lecturaenveualta.cat
SUMMARY:Semifinal ST Tarragona - Tarragona V
DESCRIPTION:
URL:https://www.lecturaenveualta.cat/esdeveniment/semifinal-st-tarragona-tarragona-v/
LOCATION:Orfeó Canongí\, Plaça Mestre Josep Gols\, 4\, La Canonja\, Tarragona\, 43110\, Espanya
CATEGORIES:Semifinals
ORGANIZER;CN="ST Tarragona i Fundaci%C3%B3 Enciclop%C3%A8dia Catalana":MAILTO:info@lecturaenveualta.cat
END:VEVENT
BEGIN:VEVENT
DTSTART;TZID=Europe/Andorra:20260313T100000
DTEND;TZID=Europe/Andorra:20260313T130000
DTSTAMP:20260422T124513
CREATED:20250212T151138Z
LAST-MODIFIED:20260113T155657Z
UID:12097-1773396000-1773406800@www.lecturaenveualta.cat
SUMMARY:Semifinal Tarragona - Reus V
DESCRIPTION:Centres de l’Alt Camp\, Baix Camp\, Conca de Barberà i Priorat
URL:https://www.lecturaenveualta.cat/esdeveniment/semifinal-tarragona-reus-v/
LOCATION:Centre de Lectura\, Carrer Major\, 15\, Reus\, 43201
ORGANIZER;CN="ST Tarragona i Fundaci%C3%B3 Enciclop%C3%A8dia Catalana":MAILTO:info@lecturaenveualta.cat
END:VEVENT
BEGIN:VEVENT
DTSTART;TZID=Europe/Andorra:20260313T100000
DTEND;TZID=Europe/Andorra:20260313T130000
DTSTAMP:20260422T124513
CREATED:20151229T163639Z
LAST-MODIFIED:20260115T085302Z
UID:5024-1773396000-1773406800@www.lecturaenveualta.cat
SUMMARY:Semifinals ST Catalunya Central - Vic II
DESCRIPTION:
URL:https://www.lecturaenveualta.cat/esdeveniment/quart-de-final-st-catalunya-central-vic/
LOCATION:Espai ETC\, Passeig de la Generalitat\, 46\, Vic\, Barcelona\, 08500\, Espanya
CATEGORIES:Semifinals
END:VEVENT
BEGIN:VEVENT
DTSTART;TZID=Europe/Andorra:20260313T100000
DTEND;TZID=Europe/Andorra:20260313T123000
DTSTAMP:20260422T124513
CREATED:20260114T093615Z
LAST-MODIFIED:20260114T093806Z
UID:12530-1773396000-1773405000@www.lecturaenveualta.cat
SUMMARY:Semifinal Vallès Occidental - Terrassa II
DESCRIPTION:
URL:https://www.lecturaenveualta.cat/esdeveniment/semifinal-valles-occidental-terrassa-i/
CATEGORIES:Semifinals
ORGANIZER;CN="ST Vall%C3%A8s Occidental i Fundaci%C3%B3 Enciclop%C3%A8dia Catalana":MAILTO:info@lecturaenveualta.cat
END:VEVENT
BEGIN:VEVENT
DTSTART;TZID=Europe/Andorra:20260313T100000
DTEND;TZID=Europe/Andorra:20260313T123000
DTSTAMP:20260422T124513
CREATED:20160112T093127Z
LAST-MODIFIED:20251219T112215Z
UID:5050-1773396000-1773405000@www.lecturaenveualta.cat
SUMMARY:Semifinal ST Baix Llobregat II - Martorell
DESCRIPTION:
URL:https://www.lecturaenveualta.cat/esdeveniment/semifinalst-baix-llobregat-martorell/
LOCATION:Centre Cultural Martorell\, Pl. de les Cultures\, s/n\, Martorell\, 08760
CATEGORIES:Semifinals
ORGANIZER;CN="ST Baix Llobregat i Fundaci%C3%B3 Enciclop%C3%A8dia Catalana":MAILTO:info@lecturaenveualta.cat
END:VEVENT
BEGIN:VEVENT
DTSTART;TZID=Europe/Andorra:20260313T094500
DTEND;TZID=Europe/Andorra:20260313T123000
DTSTAMP:20260422T124513
CREATED:20231128T143603Z
LAST-MODIFIED:20260305T140553Z
UID:11640-1773395100-1773405000@www.lecturaenveualta.cat
SUMMARY:Semifinal ST Alt Pirineu-Aran – Cerdanya
DESCRIPTION:
URL:https://www.lecturaenveualta.cat/esdeveniment/semifinals-alt-pirineu-aran-bolvir/
LOCATION:Casino d’Alp\, Placeta del Casino\, 2\, Alp\, Girona\, 17538
CATEGORIES:Semifinals
END:VEVENT
BEGIN:VEVENT
DTSTART;TZID=Europe/Andorra:20260313T093000
DTEND;TZID=Europe/Andorra:20260313T120000
DTSTAMP:20260422T124513
CREATED:20160112T101229Z
LAST-MODIFIED:20260114T090302Z
UID:5058-1773394200-1773403200@www.lecturaenveualta.cat
SUMMARY:Semifinal ST Girona - Figueres III
DESCRIPTION:Alt Empordà
URL:https://www.lecturaenveualta.cat/esdeveniment/quart-de-final-figueres-iii/
LOCATION:Auditori dels Caputxins\, C. del Rec Arnau\, 8\, Figueres\, 17600
CATEGORIES:Semifinals
ORGANIZER;CN="ST Girona i Fundaci%C3%B3 Enciclop%C3%A8dia Catalana":MAILTO:info@lecturaenveualta.cat
END:VEVENT
BEGIN:VEVENT
DTSTART;TZID=Europe/Andorra:20260312T103000
DTEND;TZID=Europe/Andorra:20260312T130000
DTSTAMP:20260422T124513
CREATED:20210301T104512Z
LAST-MODIFIED:20260113T161506Z
UID:9834-1773311400-1773320400@www.lecturaenveualta.cat
SUMMARY:Semifinal ST Terres de l'Ebre VI
DESCRIPTION:
URL:https://www.lecturaenveualta.cat/esdeveniment/semifinal-en-linia-terres-de-lebre-iv/
LOCATION:Serveis Territorials d’Educació i Formació Professional a les Terres de l’Ebre\, C. Providència\, 5-9\, Tortosa\, 43500
CATEGORIES:Semifinals
ORGANIZER;CN="ST Terres de l'Ebre i Fundaci%C3%B3 Enciclop%C3%A8dia Catalana":MAILTO:info@lecturaenveualta.cat
END:VEVENT
BEGIN:VEVENT
DTSTART;TZID=Europe/Andorra:20260312T103000
DTEND;TZID=Europe/Andorra:20260312T130000
DTSTAMP:20260422T124513
CREATED:20210224T175310Z
LAST-MODIFIED:20251120T142042Z
UID:9801-1773311400-1773320400@www.lecturaenveualta.cat
SUMMARY:Semifinal ST Alt Pirineu-Aran – Alta Ribagorça i Aran
DESCRIPTION:
URL:https://www.lecturaenveualta.cat/esdeveniment/semifinal-alt-pirineu-aran-vielha/
LOCATION:Centre de Fauna del Pont de Suert\, N230 - 126\, El Pont de Suert\, 25520
CATEGORIES:Semifinals
END:VEVENT
BEGIN:VEVENT
DTSTART;TZID=Europe/Andorra:20260312T100000
DTEND;TZID=Europe/Andorra:20260312T133000
DTSTAMP:20260422T124513
CREATED:20251118T155331Z
LAST-MODIFIED:20251118T155331Z
UID:12461-1773309600-1773322200@www.lecturaenveualta.cat
SUMMARY:Semifinals Consorci d'Educació de Barcelona - 4
DESCRIPTION:Actes de semifinals per als centres educatius de Barcelona ciutat. Horari matinal. \nDes del Consorci\, via correu-e\, es concretarà la data i l’horari.
URL:https://www.lecturaenveualta.cat/esdeveniment/semifinals-consorci-deducacio-de-barcelona-4/
LOCATION:Conservatori Municipal de Música de Barcelona\, Bruc 110-112\, Barcelona\, 08009
END:VEVENT
BEGIN:VEVENT
DTSTART;TZID=Europe/Andorra:20260312T100000
DTEND;TZID=Europe/Andorra:20260312T130000
DTSTAMP:20260422T124513
CREATED:20250212T151931Z
LAST-MODIFIED:20260311T090611Z
UID:12109-1773309600-1773320400@www.lecturaenveualta.cat
SUMMARY:Semifinal ST Tarragona - Tarragona IV
DESCRIPTION:
URL:https://www.lecturaenveualta.cat/esdeveniment/semifinal-st-tarragona-tarragona-iv/
LOCATION:Palau de Congresos\, Arquitecte Rovira\, 2\, Tarragona\, Tarragona\, 43001\, Spain
CATEGORIES:Semifinals
ORGANIZER;CN="ST Tarragona i Fundaci%C3%B3 Enciclop%C3%A8dia Catalana":MAILTO:info@lecturaenveualta.cat
END:VEVENT
BEGIN:VEVENT
DTSTART;TZID=Europe/Andorra:20260312T100000
DTEND;TZID=Europe/Andorra:20260312T130000
DTSTAMP:20260422T124513
CREATED:20250212T151039Z
LAST-MODIFIED:20260113T155620Z
UID:12095-1773309600-1773320400@www.lecturaenveualta.cat
SUMMARY:Semifinal Tarragona - Reus IV
DESCRIPTION:
URL:https://www.lecturaenveualta.cat/esdeveniment/semifinal-tarragona-reus-iv/
LOCATION:Centre de Lectura\, Carrer Major\, 15\, Reus\, 43201
CATEGORIES:Semifinals
ORGANIZER;CN="ST Tarragona i Fundaci%C3%B3 Enciclop%C3%A8dia Catalana":MAILTO:info@lecturaenveualta.cat
END:VEVENT
BEGIN:VEVENT
DTSTART;TZID=Europe/Andorra:20260312T100000
DTEND;TZID=Europe/Andorra:20260312T130000
DTSTAMP:20260422T124513
CREATED:20160112T095739Z
LAST-MODIFIED:20260114T090834Z
UID:5053-1773309600-1773320400@www.lecturaenveualta.cat
SUMMARY:Semifinal ST Girona - Blanes
DESCRIPTION:La Selva II
URL:https://www.lecturaenveualta.cat/esdeveniment/quart-de-final-st-girona-blanes/
LOCATION:Teatre de Blanes\, C/ Ample \, 26\, Blanes\, 17300 
CATEGORIES:Semifinals
ORGANIZER;CN="ST Girona i Fundaci%C3%B3 Enciclop%C3%A8dia Catalana":MAILTO:info@lecturaenveualta.cat
END:VEVENT
BEGIN:VEVENT
DTSTART;TZID=Europe/Andorra:20260312T100000
DTEND;TZID=Europe/Andorra:20260312T130000
DTSTAMP:20260422T124513
CREATED:20160112T091633Z
LAST-MODIFIED:20251118T154036Z
UID:5045-1773309600-1773320400@www.lecturaenveualta.cat
SUMMARY:Semifinal ST Barcelonès II
DESCRIPTION:Centres de Badalona- Santa Coloma de Gramenet
URL:https://www.lecturaenveualta.cat/esdeveniment/quart-de-final-st-barcelona-comarques-bcn-ii/
LOCATION:Casa del Mar\, C. Albareda\, 1\, Barcelona\, 008004
CATEGORIES:Semifinals
END:VEVENT
BEGIN:VEVENT
DTSTART;TZID=Europe/Andorra:20260312T100000
DTEND;TZID=Europe/Andorra:20260312T130000
DTSTAMP:20260422T124513
CREATED:20151229T163721Z
LAST-MODIFIED:20260115T085223Z
UID:5025-1773309600-1773320400@www.lecturaenveualta.cat
SUMMARY:Semifinals ST Catalunya Central - Vic I
DESCRIPTION:
URL:https://www.lecturaenveualta.cat/esdeveniment/quart-de-final-st-catalunya-central-vic-i/
LOCATION:Espai ETC\, Passeig de la Generalitat\, 46\, Vic\, Barcelona\, 08500\, Espanya
CATEGORIES:Semifinals
END:VEVENT
BEGIN:VEVENT
DTSTART;TZID=Europe/Andorra:20260312T100000
DTEND;TZID=Europe/Andorra:20260312T123000
DTSTAMP:20260422T124513
CREATED:20160114T122212Z
LAST-MODIFIED:20260114T093411Z
UID:5064-1773309600-1773318600@www.lecturaenveualta.cat
SUMMARY:Semifinal Vallès Occidental - Terrassa I
DESCRIPTION:
URL:https://www.lecturaenveualta.cat/esdeveniment/quart-de-final-del-valles-occidental-montcada-i-reixac/
LOCATION:Institut Terrassa\, Rambla d'Ègara\, 331\, Terrassa\, 08224
CATEGORIES:Semifinals
ORGANIZER;CN="ST Vall%C3%A8s Occidental i Fundaci%C3%B3 Enciclop%C3%A8dia Catalana":MAILTO:info@lecturaenveualta.cat
END:VEVENT
BEGIN:VEVENT
DTSTART;TZID=Europe/Andorra:20260312T093000
DTEND;TZID=Europe/Andorra:20260312T120000
DTSTAMP:20260422T124513
CREATED:20191001T090709Z
LAST-MODIFIED:20260114T090239Z
UID:8697-1773307800-1773316800@www.lecturaenveualta.cat
SUMMARY:Semifinal ST Girona - Figueres II
DESCRIPTION:Alt Empordà
URL:https://www.lecturaenveualta.cat/esdeveniment/quart-de-final-st-girona-figueres-ii/
LOCATION:Auditori dels Caputxins\, C. del Rec Arnau\, 8\, Figueres\, 17600
CATEGORIES:Semifinals
ORGANIZER;CN="ST Girona i Fundaci%C3%B3 Enciclop%C3%A8dia Catalana":MAILTO:info@lecturaenveualta.cat
END:VEVENT
END:VCALENDAR