﻿BEGIN:VCALENDAR
VERSION:2.0
PRODID:-//Veualta - ECPv6.15.20//NONSGML v1.0//EN
CALSCALE:GREGORIAN
METHOD:PUBLISH
X-ORIGINAL-URL:https://www.lecturaenveualta.cat
X-WR-CALDESC:Esdeveniments per Veualta
REFRESH-INTERVAL;VALUE=DURATION:PT1H
X-Robots-Tag:noindex
X-PUBLISHED-TTL:PT1H
BEGIN:VTIMEZONE
TZID:Europe/Andorra
BEGIN:DAYLIGHT
TZOFFSETFROM:+0100
TZOFFSETTO:+0200
TZNAME:CEST
DTSTART:20180325T010000
END:DAYLIGHT
BEGIN:STANDARD
TZOFFSETFROM:+0200
TZOFFSETTO:+0100
TZNAME:CET
DTSTART:20181028T010000
END:STANDARD
BEGIN:DAYLIGHT
TZOFFSETFROM:+0100
TZOFFSETTO:+0200
TZNAME:CEST
DTSTART:20190331T010000
END:DAYLIGHT
BEGIN:STANDARD
TZOFFSETFROM:+0200
TZOFFSETTO:+0100
TZNAME:CET
DTSTART:20191027T010000
END:STANDARD
BEGIN:DAYLIGHT
TZOFFSETFROM:+0100
TZOFFSETTO:+0200
TZNAME:CEST
DTSTART:20200329T010000
END:DAYLIGHT
BEGIN:STANDARD
TZOFFSETFROM:+0200
TZOFFSETTO:+0100
TZNAME:CET
DTSTART:20201025T010000
END:STANDARD
END:VTIMEZONE
BEGIN:VEVENT
DTSTART;TZID=Europe/Andorra:20190411T090000
DTEND;TZID=Europe/Andorra:20190411T120000
DTSTAMP:20260420T072727
CREATED:20160111T121457Z
LAST-MODIFIED:20190207T135902Z
UID:5033-1554973200-1554984000@www.lecturaenveualta.cat
SUMMARY:Quart de final ST Maresme-Vallès Oriental - Malgrat de Mar I
DESCRIPTION:
URL:https://www.lecturaenveualta.cat/esdeveniment/quart-de-final-maresme-valles-oriental-crp-maresme-ii-2/
LOCATION:Centre Cultural de Malgrat de Mar\, Carrer Carme\, 26 \, Malgrat de Mar\, 08380
CATEGORIES:Quarts de final
ORGANIZER;CN="ST Maresme-Vall%C3%A8s Oriental i Fundaci%C3%B3 Enciclop%C3%A8dia Catalana":MAILTO:info@lecturaenveualta.cat
END:VEVENT
END:VCALENDAR